
BEGIN:VCALENDAR
VERSION:2.0
PRODID:-//eventon.com NONSGML v1.0//EN
CALSCALE:GREGORIAN
METHOD:PUBLISH
BEGIN:VEVENT
UID:69eb56144227b
DTSTAMP:20260424T113756Z
DTSTART:20180602T180000Z
DTEND:20180602T213000Z
LOCATION:The Tabernacle 34-35 Powis Square\,  London\,  W11 2AY
SUMMARY:Kaiso Lime
DESCRIPTION:Kaiso Lime\nhttps://socanews.com/events/kaiso-lime/
URL:https://socanews.com/events/kaiso-lime/
END:VEVENT
END:VCALENDAR