
BEGIN:VCALENDAR
VERSION:2.0
PRODID:-//eventon.com NONSGML v1.0//EN
CALSCALE:GREGORIAN
METHOD:PUBLISH
BEGIN:VEVENT
UID:69e7741bb2feb
DTSTAMP:20260421T125659Z
DTSTART:20180825T170000Z
DTEND:20180825T220000Z
LOCATION:Emslie Horniman's Pleasance Park Kensal Road\,  London\,  W10 3DH
SUMMARY:UK National Panorama Steelband Competition
DESCRIPTION:Bands competing in the finals are: Croydon Steel Orchestra Ebon
 y Steelband Mangrove Steelband Metronomes Steel Orchestra Phase One Steelba
 nd Raspo Steelband\nhttps://socanews.com/events/uk-national-panorama-steelb
 and-competition/
URL:https://socanews.com/events/uk-national-panorama-steelband-competition/
END:VEVENT
END:VCALENDAR