
BEGIN:VCALENDAR
VERSION:2.0
PRODID:-//eventon.com NONSGML v1.0//EN
CALSCALE:GREGORIAN
METHOD:PUBLISH
BEGIN:VEVENT
UID:69e73be8ebcf7
DTSTAMP:20260421T085712Z
DTSTART:20181006T180000Z
DTEND:20181006T213000Z
LOCATION:The Tabernacle 34-35 Powis Square\,  London\,  W11 2AY
SUMMARY:Kaiso Lime!
DESCRIPTION:Featuring: Helena B McKenzie Hart Brown Sugar Soca Divettes Gis
 elle Accompanied by Ray Careless Classic Kaiso and soca Licensed Bar and Ca
 ribbean Food on Sale\nhttps://socanews.com/events/kaiso-lime-3/
URL:https://socanews.com/events/kaiso-lime-3/
END:VEVENT
END:VCALENDAR