
BEGIN:VCALENDAR
VERSION:2.0
PRODID:-//eventon.com NONSGML v1.0//EN
CALSCALE:GREGORIAN
METHOD:PUBLISH
BEGIN:VEVENT
UID:69e8ec358261f
DTSTAMP:20260422T154141Z
DTSTART:20190629T170000Z
DTEND:20190629T110000Z
LOCATION:Ilford Sports Club 3 Cricklefield Place\,  Ilford\,  IG1 1FY
SUMMARY:Culture Fest
DESCRIPTION:Indo-Caribbean London\,  have brought together organisations an
 d artists from across the Indo-Caribbean community in London to bring you t
 he first ever family friendly Indo-Caribbean Festival\,  ‘CULTURE FEST’
 . Bring the whole family to enjoy this explosion of culture /food /music/ s
 talls and support our live performances. Dance the night away to[..]\nhttps
 ://socanews.com/events/culture-fest/
URL:https://socanews.com/events/culture-fest/
END:VEVENT
END:VCALENDAR