
BEGIN:VCALENDAR
VERSION:2.0
PRODID:-//eventon.com NONSGML v1.0//EN
CALSCALE:GREGORIAN
METHOD:PUBLISH
BEGIN:VEVENT
UID:69e75078448bf
DTSTAMP:20260421T102456Z
DTSTART:20190907T180000Z
DTEND:20190907T213000Z
LOCATION:The Tabernacle 34-35 Powis Square\,  London\,  W11 2AY
SUMMARY:Kaiso Lime!
DESCRIPTION:Kaiso Lime!\nhttps://socanews.com/events/kaiso-lime-8/
URL:https://socanews.com/events/kaiso-lime-8/
END:VEVENT
END:VCALENDAR