
BEGIN:VCALENDAR
VERSION:2.0
PRODID:-//eventon.com NONSGML v1.0//EN
CALSCALE:GREGORIAN
METHOD:PUBLISH
BEGIN:VEVENT
UID:69eb485a39327
DTSTAMP:20260424T103922Z
DTSTART:20190901T110000Z
DTEND:20190902T223000Z
LOCATION:Hackney Wick E9\,  London\,  United Kingdom
SUMMARY:The London Jerk Festival
DESCRIPTION:The London Jerk Festival\nhttps://socanews.com/events/the-londo
 n-jerk-festival/
URL:https://socanews.com/events/the-london-jerk-festival/
END:VEVENT
END:VCALENDAR