
BEGIN:VCALENDAR
VERSION:2.0
PRODID:-//eventon.com NONSGML v1.0//EN
CALSCALE:GREGORIAN
METHOD:PUBLISH
BEGIN:VEVENT
UID:69e7e19fdafd5
DTSTAMP:20260421T204415Z
DTSTART:20190812T120000Z
DTEND:20190812T225000Z
LOCATION:Tanteen\,  St George
SUMMARY:Pageant
DESCRIPTION:Pageant\nhttps://socanews.com/events/pageant/
URL:https://socanews.com/events/pageant/
END:VEVENT
END:VCALENDAR