
BEGIN:VCALENDAR
VERSION:2.0
PRODID:-//eventon.com NONSGML v1.0//EN
CALSCALE:GREGORIAN
METHOD:PUBLISH
BEGIN:VEVENT
UID:69e73be85e907
DTSTAMP:20260421T085712Z
DTSTART:20190913T220000Z
DTEND:20190914T040000Z
LOCATION:Fire 39 Parry Street\,  SW8 1RT
SUMMARY:Post Carnival Fete
DESCRIPTION:Post Carnival Fete\nhttps://socanews.com/events/post-carnival-f
 ete/
URL:https://socanews.com/events/post-carnival-fete/
END:VEVENT
END:VCALENDAR