
BEGIN:VCALENDAR
VERSION:2.0
PRODID:-//eventon.com NONSGML v1.0//EN
CALSCALE:GREGORIAN
METHOD:PUBLISH
BEGIN:VEVENT
UID:69e4d27b16e9a
DTSTAMP:20260419T130251Z
DTSTART:20191012T200000Z
DTEND:20191013T020000Z
LOCATION:RC Cola Plant Wynwood 550 NW 24th St Miami\,  FL 33127
SUMMARY:SCORCH + Spice Carnival Playground
DESCRIPTION:SCORCH + Spice Carnival Playground\nhttps://socanews.com/events
 /scorch-spice-carnival-playground/
URL:https://socanews.com/events/scorch-spice-carnival-playground/
END:VEVENT
END:VCALENDAR