
BEGIN:VCALENDAR
VERSION:2.0
PRODID:-//eventon.com NONSGML v1.0//EN
CALSCALE:GREGORIAN
METHOD:PUBLISH
BEGIN:VEVENT
UID:69e9989439811
DTSTAMP:20260423T035708Z
DTSTART:20191207T200000Z
DTEND:20191208T000000Z
LOCATION:Trude Restaurant &amp; Bar 91 High Street\,  South Norwood\,  London\,  SE25 6EA
SUMMARY:Parang Soca Night
DESCRIPTION:LLUXE presents a Premium Parang Party at the Luxurious Trude Ba
 r. All 3 trini Dj’s Trini Christmas food on sale &#8211; pastelle &#8211;
  black cake &#8211; fritters &#8211; hops&amp;ham Tables/Drinks Packages on
  sale for group entry The best of UK TT artists &#8211; Tobago Crusoe Gisel
 le\nhttps://socanews.com/events/parang-soca-night/
URL:https://socanews.com/events/parang-soca-night/
END:VEVENT
END:VCALENDAR