
BEGIN:VCALENDAR
VERSION:2.0
PRODID:-//eventon.com NONSGML v1.0//EN
CALSCALE:GREGORIAN
METHOD:PUBLISH
BEGIN:VEVENT
UID:69e738f765098
DTSTAMP:20260421T084439Z
DTSTART:20191221T220000Z
DTEND:20191222T040000Z
LOCATION:The Alice 133 Houndsditch\,  EC3A 7BX
SUMMARY:Hush – the Caribbean Silent Party (All White Winter Edition)
DESCRIPTION:Hush – the Caribbean Silent Party (All White Winter Edition)\
 nhttps://socanews.com/events/hush-the-caribbean-silent-party-all-white-wint
 er-edition/
URL:https://socanews.com/events/hush-the-caribbean-silent-party-all-white-winter-edition/
END:VEVENT
END:VCALENDAR