
BEGIN:VCALENDAR
VERSION:2.0
PRODID:-//eventon.com NONSGML v1.0//EN
CALSCALE:GREGORIAN
METHOD:PUBLISH
BEGIN:VEVENT
UID:69e80452e7161
DTSTAMP:20260421T231218Z
DTSTART:20200217T210000Z
DTEND:20200218T030000Z
LOCATION:Hasely Crawford Stadium Wrightson Extension Road. Trinidad & Tobago
SUMMARY:Machel Monday - The Wedding
DESCRIPTION:ARTISTE LIST Teddy Riley Blackstreet Shalamar Afro B Mr. Eazi I
 wer George Konshens Tarrus Riley Skinny Fabulous Kerwin Du Bois Destra Prob
 lem Child Lyrikal Voice Nadia Batson Farmer Nappy Angela Hunte Salty Motto 
 Olatunji Hurricane Ravi B Drupatee Lil Natty &amp; Thunda Hey Choppi Teddy 
 Rhymez Adana Roberts Trinidad Killa[..]\nhttps://socanews.com/events/machel
 -monday/
URL:https://socanews.com/events/machel-monday/
END:VEVENT
END:VCALENDAR