
BEGIN:VCALENDAR
VERSION:2.0
PRODID:-//eventon.com NONSGML v1.0//EN
CALSCALE:GREGORIAN
METHOD:PUBLISH
BEGIN:VEVENT
UID:69e4f34ad21c3
DTSTAMP:20260419T152250Z
DTSTART:20210301T010000Z
DTEND:20210301T045000Z
LOCATION:
SUMMARY:FIAH
DESCRIPTION:On 28 February Nailah Blackman and Sokah The Band will be hosti
 ng a live concert dubbed FIAH. The live concert is powered by White Oak Rum
 \,  Digicel Trinidad &amp; Tobago\,  D&#8217;music and Republic Bank Offici
 al Mark your diaries and watch FIAH live on Nailah’s YouTube channel and 
 Digicel TT\nhttps://socanews.com/events/fiah/
URL:https://socanews.com/events/fiah/
END:VEVENT
END:VCALENDAR