
BEGIN:VCALENDAR
VERSION:2.0
PRODID:-//eventon.com NONSGML v1.0//EN
CALSCALE:GREGORIAN
METHOD:PUBLISH
BEGIN:VEVENT
UID:69e5a405c3d26
DTSTAMP:20260420T035653Z
DTSTART:20210819T183000Z
DTEND:20210819T225000Z
LOCATION:Opera Holland Park Theatre Ilchester Place\,  London W8 6LU
SUMMARY:Carnival Culture in the Park - Classic Calypso
DESCRIPTION:An evening that highlights the UK Calypso scene featuring artis
 ts such as&nbsp;Giselle Carter\,  G String\,  Helena B&nbsp;and&nbsp;Alexan
 der D Great. The performances are set against a 6-piece acoustic live band.
 \nhttps://socanews.com/events/carnival-culture-in-the-park-classic-calypso/
URL:https://socanews.com/events/carnival-culture-in-the-park-classic-calypso/
END:VEVENT
END:VCALENDAR