
BEGIN:VCALENDAR
VERSION:2.0
PRODID:-//eventon.com NONSGML v1.0//EN
CALSCALE:GREGORIAN
METHOD:PUBLISH
BEGIN:VEVENT
UID:69e5a555681f6
DTSTAMP:20260420T040229Z
DTSTART:20210820T183000Z
DTEND:20210820T225000Z
LOCATION:Opera Holland Park Theatre Ilchester Place\,  London W8 6LU
SUMMARY:Carnival Culture in the Park - Pan in the Park
DESCRIPTION:An opportunity to bask in the ambience of steelpan with the UKâ
 €™s leading Steelbands&nbsp;Mangrove&nbsp;and&nbsp;Ebony.&nbsp;Pan in the P
 ark will be the ultimate musical journey from classical to modern contempor
 ary and will feature newly arranged material performed live with Opera Sopr
 ano singing sensation&nbsp;Anne Fridal.&nbsp;\nhttps://socanews.com/events/
 carnival-culture-in-the-park-pan-in-the-park/
URL:https://socanews.com/events/carnival-culture-in-the-park-pan-in-the-park/
END:VEVENT
END:VCALENDAR