
BEGIN:VCALENDAR
VERSION:2.0
PRODID:-//eventon.com NONSGML v1.0//EN
CALSCALE:GREGORIAN
METHOD:PUBLISH
BEGIN:VEVENT
UID:69e5a3e12451e
DTSTAMP:20260420T035617Z
DTSTART:20210821T183000Z
DTEND:20210821T203000Z
LOCATION:Opera Holland Park Theatre Ilchester Place\,  London W8 6LU
SUMMARY:Carnival Culture In The Park - Pan Jazz
DESCRIPTION:An evening of Caribbean Jazz featuring the&nbsp;Engine Room Col
 lective&nbsp;performing with the finest steelpan musicians\, &nbsp;Andre Wh
 ite\,  Leon ‘Foster’ Thomas\,  Samuel Dubois\,  Carlene Etienne&nbsp;an
 d&nbsp;Deborah Eden.&nbsp;\nhttps://socanews.com/events/carnival-culture-in
 -the-park-pan-jazz/
URL:https://socanews.com/events/carnival-culture-in-the-park-pan-jazz/
END:VEVENT
END:VCALENDAR