
BEGIN:VCALENDAR
VERSION:2.0
PRODID:-//eventon.com NONSGML v1.0//EN
CALSCALE:GREGORIAN
METHOD:PUBLISH
BEGIN:VEVENT
UID:69e5a0530ac2c
DTSTAMP:20260420T034107Z
DTSTART:20210822T110000Z
DTEND:20210822T160000Z
LOCATION:The Tabernacle 34-35 Powis Square\,  London\,  W11 2AY
SUMMARY:Steel The Show - Celebrating 70 Years Of Steelpan In The UK
DESCRIPTION:Steel The Show - Celebrating 70 Years Of Steelpan In The UK\nht
 tps://socanews.com/events/steel-the-show-celebrating-70-years-of-steelpan-i
 n-the-uk/
URL:https://socanews.com/events/steel-the-show-celebrating-70-years-of-steelpan-in-the-uk/
END:VEVENT
END:VCALENDAR