
BEGIN:VCALENDAR
VERSION:2.0
PRODID:-//eventon.com NONSGML v1.0//EN
CALSCALE:GREGORIAN
METHOD:PUBLISH
BEGIN:VEVENT
UID:69e58635b6429
DTSTAMP:20260420T014941Z
DTSTART:20210820T110000Z
DTEND:20210820T160000Z
LOCATION:Chelsea Theatre 7 World's End Place\,  London\,  SW10 0DR
SUMMARY:Carnival Comes To Chelsea
DESCRIPTION:Carnival Comes To Chelsea\nhttps://socanews.com/events/carnival
 -comes-to-chelsea/
URL:https://socanews.com/events/carnival-comes-to-chelsea/
END:VEVENT
END:VCALENDAR