
BEGIN:VCALENDAR
VERSION:2.0
PRODID:-//eventon.com NONSGML v1.0//EN
CALSCALE:GREGORIAN
METHOD:PUBLISH
BEGIN:VEVENT
UID:69e585de01b63
DTSTAMP:20260420T014814Z
DTSTART:20210826T110000Z
DTEND:20210826T160000Z
LOCATION:Portobella Canopy Green W10 5TD
SUMMARY:Community Carnival Party
DESCRIPTION:Community Carnival Party\nhttps://socanews.com/events/community
 -carnival-party/
URL:https://socanews.com/events/community-carnival-party/
END:VEVENT
END:VCALENDAR