
BEGIN:VCALENDAR
VERSION:2.0
PRODID:-//eventon.com NONSGML v1.0//EN
CALSCALE:GREGORIAN
METHOD:PUBLISH
BEGIN:VEVENT
UID:69e5a32090bd4
DTSTAMP:20260420T035304Z
DTSTART:20210828T170000Z
DTEND:20210828T230000Z
LOCATION:Emslie Horniman's Pleasance Park Kensal Road\,  London\,  W10 3DH
SUMMARY:UK National Panorama Steelband Competition
DESCRIPTION:Four bands will take part and they include:MangroveEbonyMetrono
 mesCroydon Steel Orchestra\nhttps://socanews.com/events/uk-national-panoram
 a-steelband-competition-3/
URL:https://socanews.com/events/uk-national-panorama-steelband-competition-3/
END:VEVENT
END:VCALENDAR