
BEGIN:VCALENDAR
VERSION:2.0
PRODID:-//eventon.com NONSGML v1.0//EN
CALSCALE:GREGORIAN
METHOD:PUBLISH
BEGIN:VEVENT
UID:69e585c59fbbe
DTSTAMP:20260420T014749Z
DTSTART:20210820T190000Z
DTEND:20210820T110000Z
LOCATION:Maxilla Social Club 2 Maxilla Walk\,  London\,  W10 6SW
SUMMARY:The UK Calypso and Soca Lime Launch
DESCRIPTION:Featuring the best in UK &amp; Europe Calypso and Soca:G-String
 Helena BDe AdmiralBrown SugarAlexander D GreatRev BMusicmanDansaMuffinmanCl
 ivusDe AlbertoMs DesireSunDivasDeeVineSoca KiddBatch\nhttps://socanews.com/
 events/the-uk-calypso-and-soca-lime-launch/
URL:https://socanews.com/events/the-uk-calypso-and-soca-lime-launch/
END:VEVENT
END:VCALENDAR