
BEGIN:VCALENDAR
VERSION:2.0
PRODID:-//eventon.com NONSGML v1.0//EN
CALSCALE:GREGORIAN
METHOD:PUBLISH
BEGIN:VEVENT
UID:69e57eb558b6a
DTSTAMP:20260420T011741Z
DTSTART:20210821T190000Z
DTEND:20210821T223000Z
LOCATION:The Tabernacle 34-35 Powis Square\,  London\,  W11 2AY
SUMMARY:The Ultimate Soca Showcase
DESCRIPTION:Featuring Live:SundivasBatchMs DesireTriniboi Joocie Backed By:
 1 The Band\nhttps://socanews.com/events/the-ultimate-soca-showcase/
URL:https://socanews.com/events/the-ultimate-soca-showcase/
END:VEVENT
END:VCALENDAR