
BEGIN:VCALENDAR
VERSION:2.0
PRODID:-//eventon.com NONSGML v1.0//EN
CALSCALE:GREGORIAN
METHOD:PUBLISH
BEGIN:VEVENT
UID:69e5b5ca60370
DTSTAMP:20260420T051242Z
DTSTART:20211223T200000Z
DTEND:20211223T235000Z
LOCATION:Carnival Village (Sugar Mill) Basseterre\,  St. Kitts
SUMMARY:Sugar Mas - National Carnival Soca Monarch Finals
DESCRIPTION:Sugar Mas - National Carnival Soca Monarch Finals\nhttps://soca
 news.com/events/sugar-mas-national-carnival-soca-monarch-finals/
URL:https://socanews.com/events/sugar-mas-national-carnival-soca-monarch-finals/
END:VEVENT
END:VCALENDAR