
BEGIN:VCALENDAR
VERSION:2.0
PRODID:-//eventon.com NONSGML v1.0//EN
CALSCALE:GREGORIAN
METHOD:PUBLISH
BEGIN:VEVENT
UID:69ea4b69520f3
DTSTAMP:20260423T164009Z
DTSTART:20220424T150000Z
DTEND:20220424T230000Z
LOCATION:The Prince Of Wales (POW) 469 Brixton Road\,  Brixton\,  London SW9 8HH
SUMMARY:Soca On De Roof
DESCRIPTION:The #1 Soca Rooftop Events! Soca On De Roof Rooftop Party! Soca
  On De Roof Returns with a sweet dose of Soca from some of the best Dj’s 
 &amp; Hosts London has to offer.&nbsp; No one does Rooftop parties like us 
 and we promise to deliver. The DJs have been[..]\nhttps://socanews.com/even
 ts/soca-on-de-roof-2/
URL:https://socanews.com/events/soca-on-de-roof-2/
END:VEVENT
END:VCALENDAR