
BEGIN:VCALENDAR
VERSION:2.0
PRODID:-//eventon.com NONSGML v1.0//EN
CALSCALE:GREGORIAN
METHOD:PUBLISH
BEGIN:VEVENT
UID:69e4e6aa3b2c9
DTSTAMP:20260419T142858Z
DTSTART:20220318T230000Z
DTEND:20220318T050000Z
LOCATION:Fire 39 Parry Street\,  SW8 1RT
SUMMARY:Fantasy
DESCRIPTION:Live PerformanceLeadpipe &amp; Saddis\nhttps://socanews.com/eve
 nts/fantasy/
URL:https://socanews.com/events/fantasy/
END:VEVENT
END:VCALENDAR