
BEGIN:VCALENDAR
VERSION:2.0
PRODID:-//eventon.com NONSGML v1.0//EN
CALSCALE:GREGORIAN
METHOD:PUBLISH
BEGIN:VEVENT
UID:69e73c39d7957
DTSTAMP:20260421T085833Z
DTSTART:20220326T193000Z
DTEND:20220326T235000Z
LOCATION:The Tabernacle 34-35 Powis Square\,  London\,  W11 2AY
SUMMARY:Return - Two Evenings of Pulsating Live Caribbean Music
DESCRIPTION:Giving you the best in Calypso and Soca featuring then UKs prem
 ier artists backed by the ACASA All-Stars Band and the Divettes. Artists In
 clude:• Ms Desire (Reigning UK Groovy Soca Monarch)• G-String (Reigning
  UK Calypso Monarch)• Tobago Crusoe (Paddington Bear Fame)• Alexander D
  Great• Batch• Brown Sugar• De Admiral• Deevine•[..]\nhttps://soc
 anews.com/events/return-two-evenings-of-pulsating-live-caribbean-music/
URL:https://socanews.com/events/return-two-evenings-of-pulsating-live-caribbean-music/
END:VEVENT
END:VCALENDAR