
BEGIN:VCALENDAR
VERSION:2.0
PRODID:-//eventon.com NONSGML v1.0//EN
CALSCALE:GREGORIAN
METHOD:PUBLISH
BEGIN:VEVENT
UID:69e61f787bf9a
DTSTAMP:20260420T124336Z
DTSTART:20220814T120000Z
DTEND:20220814T225900Z
LOCATION:Club Langley 2 Hawksbrook Lane\,  Beckenham\,  BR3 3SR
SUMMARY:Pre Carnival Brunch & Party
DESCRIPTION:Blue &amp; White Affair GT Empire will be transforming Club Lan
 gley into a Carnival Atmospheric space. Imagine walking down our red carpet
  smart casually dressed in your blue and white outfit\,  it will be a movie
 ! Live Performances:Brother B International Award Winner Mr. Gold&#8217;N5 
 Times Groovy Soca Monarch1 Time Road[..]\nhttps://socanews.com/events/pre-c
 arnival-brunch-party/
URL:https://socanews.com/events/pre-carnival-brunch-party/
END:VEVENT
END:VCALENDAR