
BEGIN:VCALENDAR
VERSION:2.0
PRODID:-//eventon.com NONSGML v1.0//EN
CALSCALE:GREGORIAN
METHOD:PUBLISH
BEGIN:VEVENT
UID:69e804531d88b
DTSTAMP:20260421T231219Z
DTSTART:20220520T210000Z
DTEND:20220521T030000Z
LOCATION:The Prince Of Wales (POW) 469 Brixton Road\,  Brixton\,  London SW9 8HH
SUMMARY:Chance
DESCRIPTION:Soca Madhouse presents: CHANCE! Preedy will be live in concert 
 presenting his first CHANCE event in London\,  taking his acclaimed show in
 ternational. Ft. Flagz Sound\,  with special guests and surprises.\nhttps:/
 /socanews.com/events/preedy/
URL:https://socanews.com/events/preedy/
END:VEVENT
END:VCALENDAR