
BEGIN:VCALENDAR
VERSION:2.0
PRODID:-//eventon.com NONSGML v1.0//EN
CALSCALE:GREGORIAN
METHOD:PUBLISH
BEGIN:VEVENT
UID:69e8e2923393a
DTSTAMP:20260422T150034Z
DTSTART:20220605T100000Z
DTEND:20220605T180000Z
LOCATION:Draycott &amp; Hanbury Cricket Club Hanbury\,  Hanbury Woodend\,  Burton-on-Trent DE13 8TH
SUMMARY:A Lil Bit A Bim (Barbados Day) - Food\,  Culture\,  Cricket & Music
DESCRIPTION:A Lil Bit of Bim is the flagship fundraiser of the NCBA. It was
  launched in 2011 so that people of all ages can socialise and experience t
 he traditions of Barbados. . It also provides a fun way of uniting all Barb
 adians with their heritage and culture by encouraging solid[..]\nhttps://so
 canews.com/events/a-lil-bit-a-bim-barbados-day-food-culture-cricket-music/
URL:https://socanews.com/events/a-lil-bit-a-bim-barbados-day-food-culture-cricket-music/
END:VEVENT
END:VCALENDAR