
BEGIN:VCALENDAR
VERSION:2.0
PRODID:-//eventon.com NONSGML v1.0//EN
CALSCALE:GREGORIAN
METHOD:PUBLISH
BEGIN:VEVENT
UID:69e8660d23478
DTSTAMP:20260422T060917Z
DTSTART:20220707T190000Z
DTEND:20220707T230000Z
LOCATION:Royalton Saint Lucia Smugglers Cove Drive\,  Cap Estate\,  Saint Lucia
SUMMARY:Saint Lucia Carnival 2022 - Carnival Queen Show
DESCRIPTION:Saint Lucia Carnival 2022 - Carnival Queen Show\nhttps://socane
 ws.com/events/saint-lucia-carnival-2022-carnival-queen-show/
URL:https://socanews.com/events/saint-lucia-carnival-2022-carnival-queen-show/
END:VEVENT
END:VCALENDAR