
BEGIN:VCALENDAR
VERSION:2.0
PRODID:-//eventon.com NONSGML v1.0//EN
CALSCALE:GREGORIAN
METHOD:PUBLISH
BEGIN:VEVENT
UID:69e8660d34362
DTSTAMP:20260422T060917Z
DTSTART:20220708T190000Z
DTEND:20220708T225000Z
LOCATION:The Sab Vigie Playing Field\,  John Compton Hwy\,  Saint Lucia
SUMMARY:Saint Lucia Carnival 2022 - Soca Monarch
DESCRIPTION:Saint Lucia Carnival 2022 - Soca Monarch\nhttps://socanews.com/
 events/saint-lucia-carnival-soca-monarch-2/
URL:https://socanews.com/events/saint-lucia-carnival-soca-monarch-2/
END:VEVENT
END:VCALENDAR