
BEGIN:VCALENDAR
VERSION:2.0
PRODID:-//eventon.com NONSGML v1.0//EN
CALSCALE:GREGORIAN
METHOD:PUBLISH
BEGIN:VEVENT
UID:69e865da1a9fa
DTSTAMP:20260422T060826Z
DTSTART:20220709T190000Z
DTEND:20220710T010000Z
LOCATION:The Sab Vigie Playing Field\,  John Compton Hwy\,  Saint Lucia
SUMMARY:Saint Lucia Carnival 2022 - Calypso Monarch
DESCRIPTION:Saint Lucia Carnival 2022 - Calypso Monarch\nhttps://socanews.c
 om/events/saint-lucia-carnival-calypso-monarch-2/
URL:https://socanews.com/events/saint-lucia-carnival-calypso-monarch-2/
END:VEVENT
END:VCALENDAR