
BEGIN:VCALENDAR
VERSION:2.0
PRODID:-//eventon.com NONSGML v1.0//EN
CALSCALE:GREGORIAN
METHOD:PUBLISH
BEGIN:VEVENT
UID:69e857887f0c3
DTSTAMP:20260422T050720Z
DTSTART:20220714T190000Z
DTEND:20220714T010000Z
LOCATION:Daren Sammy Cricket Ground Beausejour\,  Gros Islet\,  Saint Lucia
SUMMARY:U10 (U4ria)
DESCRIPTION:Performing Artists:Teddyson JohnDestra GarciaKerwin Du BoisFarm
 er Nappy\nhttps://socanews.com/events/u4ria-2/
URL:https://socanews.com/events/u4ria-2/
END:VEVENT
END:VCALENDAR