
BEGIN:VCALENDAR
VERSION:2.0
PRODID:-//eventon.com NONSGML v1.0//EN
CALSCALE:GREGORIAN
METHOD:PUBLISH
BEGIN:VEVENT
UID:69e865da1cf5b
DTSTAMP:20260422T060826Z
DTSTART:20220715T190000Z
DTEND:20220716T010000Z
LOCATION:Daren Sammy Cricket Ground Beausejour\,  Gros Islet\,  Saint Lucia
SUMMARY:Color Me Red
DESCRIPTION:Featuring:MottoLyrikalNadia BatsonPatrice Roberts\nhttps://soca
 news.com/events/color-me-red/
URL:https://socanews.com/events/color-me-red/
END:VEVENT
END:VCALENDAR