
BEGIN:VCALENDAR
VERSION:2.0
PRODID:-//eventon.com NONSGML v1.0//EN
CALSCALE:GREGORIAN
METHOD:PUBLISH
BEGIN:VEVENT
UID:69e863ce6fca1
DTSTAMP:20260422T055942Z
DTSTART:20220716T020000Z
DTEND:20220716T070000Z
LOCATION:TBA
SUMMARY:Mess
DESCRIPTION:Mess\nhttps://socanews.com/events/mess-4/
URL:https://socanews.com/events/mess-4/
END:VEVENT
END:VCALENDAR