
BEGIN:VCALENDAR
VERSION:2.0
PRODID:-//eventon.com NONSGML v1.0//EN
CALSCALE:GREGORIAN
METHOD:PUBLISH
BEGIN:VEVENT
UID:69e865d5af922
DTSTAMP:20260422T060821Z
DTSTART:20220716T140000Z
DTEND:20220716T220000Z
LOCATION:Pigeon Island Beach Gros Islet
SUMMARY:Remedy
DESCRIPTION:Remedy\nhttps://socanews.com/events/remedy/
URL:https://socanews.com/events/remedy/
END:VEVENT
END:VCALENDAR