
BEGIN:VCALENDAR
VERSION:2.0
PRODID:-//eventon.com NONSGML v1.0//EN
CALSCALE:GREGORIAN
METHOD:PUBLISH
BEGIN:VEVENT
UID:69e866146235c
DTSTAMP:20260422T060924Z
DTSTART:20220720T130000Z
DTEND:20220720T190000Z
LOCATION:Rodney Bay Marina Gros Islet\,  Saint Lucia
SUMMARY:Vice​ Beach Party
DESCRIPTION:VICE | DAY 3 WELCOME TO VICE BEACH PARTY!! A Unique Beach Exper
 ience with unmatched ENERGY &amp; VIBES that is 100% authentic ST.LUCIAN! ~
  EXPRESSION WITHOUT JUDGEMENT ~ BEACH | BOATS | BIKINIS | CABANAS VICE is a
  beach wear ONLY event The BEST entertainment Locally\,  Regionally &amp; I
 nternationally\nhttps://socanews.com/events/day-3-vice%e2%80%8b/
URL:https://socanews.com/events/day-3-vice%e2%80%8b/
END:VEVENT
END:VCALENDAR