
BEGIN:VCALENDAR
VERSION:2.0
PRODID:-//eventon.com NONSGML v1.0//EN
CALSCALE:GREGORIAN
METHOD:PUBLISH
BEGIN:VEVENT
UID:69e9298c6c505
DTSTAMP:20260422T200324Z
DTSTART:20220521T210000Z
DTEND:20220522T030000Z
LOCATION:Ruby's London 7 Advent Way\,  London\,  N18 3AH
SUMMARY:I Love Sewo Jam
DESCRIPTION:Featuring Live Blackboy (Saint Lucia)Triple K Combo (Dominica)\
 nhttps://socanews.com/events/i-love-sewo-jam/
URL:https://socanews.com/events/i-love-sewo-jam/
END:VEVENT
END:VCALENDAR