
BEGIN:VCALENDAR
VERSION:2.0
PRODID:-//eventon.com NONSGML v1.0//EN
CALSCALE:GREGORIAN
METHOD:PUBLISH
BEGIN:VEVENT
UID:69e8b99ca31fa
DTSTAMP:20260422T120548Z
DTSTART:20220501T130000Z
DTEND:20220501T200000Z
LOCATION:Fort Shirley Cabrits National Park
SUMMARY:Dominica Jazz 'n Creole
DESCRIPTION:Featuring:Teddyson JohnJSJ (Jean-Michel\,  the pianist\,  Steph
 ane the bassist\,  and Jerôme the drummer)Femme 4\nhttps://socanews.com/ev
 ents/dominica-jazz-n-creole/
URL:https://socanews.com/events/dominica-jazz-n-creole/
END:VEVENT
END:VCALENDAR