
BEGIN:VCALENDAR
VERSION:2.0
PRODID:-//eventon.com NONSGML v1.0//EN
CALSCALE:GREGORIAN
METHOD:PUBLISH
BEGIN:VEVENT
UID:69e81aec5b7aa
DTSTAMP:20260422T004844Z
DTSTART:20220529T130000Z
DTEND:20220529T190000Z
LOCATION:Kenton Hall Woodcock Hill\,  Harrow\,  HA3 0PQ\,  United Kingdom
SUMMARY:Brunch & Day Party
DESCRIPTION:Live Performance By:Nessa Preppy (Supported by DJ Romero STR8 O
 ut Of Trinidad &amp; Tobago)\nhttps://socanews.com/events/brunch-day-party/
URL:https://socanews.com/events/brunch-day-party/
END:VEVENT
END:VCALENDAR