
BEGIN:VCALENDAR
VERSION:2.0
PRODID:-//eventon.com NONSGML v1.0//EN
CALSCALE:GREGORIAN
METHOD:PUBLISH
BEGIN:VEVENT
UID:69e865eb47ea2
DTSTAMP:20260422T060843Z
DTSTART:20220716T010000Z
DTEND:20220716T090000Z
LOCATION:Pigeon Island Beach Gros Islet
SUMMARY:Soak't N Color
DESCRIPTION:SOAK&#8217;T N COLOUR!! THE ULTIMATE BEACH JOUVERT FOR ST LUCIA
  CARNIVAL!! WATER | POWDER | PAINT | FOAM | BIKINIS | COOLERS | RUM The per
 fect blend of two of St Lucia&#8217;s CRAZIEST Parties! A design &amp; set 
 up NEVER done before!! Rum Inclusive | Personal Coolers Allowed AUTHENTIC S
 T.LUCIAN[..]\nhttps://socanews.com/events/soakt-n-color/
URL:https://socanews.com/events/soakt-n-color/
END:VEVENT
END:VCALENDAR