
BEGIN:VCALENDAR
VERSION:2.0
PRODID:-//eventon.com NONSGML v1.0//EN
CALSCALE:GREGORIAN
METHOD:PUBLISH
BEGIN:VEVENT
UID:69e8dfc597588
DTSTAMP:20260422T144837Z
DTSTART:20220603
DTEND:20220604
LOCATION:Rodney Bay Marina Gros Islet\,  Saint Lucia
SUMMARY:Leve 2
DESCRIPTION:Live Performances by St. Lucia Power | Groovy | Dennery Segment
 s Soca Artists\nhttps://socanews.com/events/leve-2/
URL:https://socanews.com/events/leve-2/
END:VEVENT
END:VCALENDAR