
BEGIN:VCALENDAR
VERSION:2.0
PRODID:-//eventon.com NONSGML v1.0//EN
CALSCALE:GREGORIAN
METHOD:PUBLISH
BEGIN:VEVENT
UID:69e73c5e81d8c
DTSTAMP:20260421T085910Z
DTSTART:20220611T180000Z
DTEND:20220611T225000Z
LOCATION:The Tabernacle 34-35 Powis Square\,  London\,  W11 2AY
SUMMARY:Kaiso Lime
DESCRIPTION:Artist Appearing in the Kaiso Lime 2022 Season:Alexander D Grea
 tRobert BaileyChris &amp; ChnatelleCongasDe AlbertoHelena BInternational Pa
 e30tPan Fever (Justin Redz Richardson)Scratcher Man KhamaiTobago Crusoe Plu
 s Special Guests and Introducing New Kaiso and Soca Artists\nhttps://socane
 ws.com/events/kaiso-lime-11/
URL:https://socanews.com/events/kaiso-lime-11/
END:VEVENT
END:VCALENDAR