
BEGIN:VCALENDAR
VERSION:2.0
PRODID:-//eventon.com NONSGML v1.0//EN
CALSCALE:GREGORIAN
METHOD:PUBLISH
BEGIN:VEVENT
UID:69e92537b6f14
DTSTAMP:20260422T194455Z
DTSTART:20220827T110000Z
DTEND:20220827T190000Z
LOCATION:26 LEAKE ST. 26 Leake Street\,  London\,  SE1 7NN
SUMMARY:Oui Fete
DESCRIPTION:Join Us as we get ready for three days of Fete\,  J’ouvert an
 d Mas.. Welcome to The Reunion Experience. It’s the day before we take to
  the streets of Notting Hill Carnival and celebrate freedom\,  joy\,  unity
  and happiness. Welcome to Oui Fete\,  your Soca Fete\,  with a touch of[..
 ]\nhttps://socanews.com/events/oui-fete/
URL:https://socanews.com/events/oui-fete/
END:VEVENT
END:VCALENDAR