
BEGIN:VCALENDAR
VERSION:2.0
PRODID:-//eventon.com NONSGML v1.0//EN
CALSCALE:GREGORIAN
METHOD:PUBLISH
BEGIN:VEVENT
UID:69e50c54313ce
DTSTAMP:20260419T170940Z
DTSTART:20221015T110000Z
DTEND:20221015T160000Z
LOCATION:The ILEC Conference Centre 47 Lillie Road\,  London\,  SW6 1UD
SUMMARY:The RumFest
DESCRIPTION:An unmissable event for Rum &amp; spirit lovers from all over t
 he world\,  with intimate seminars\,  rum tastings &amp; cocktail mastercla
 sses hosted by master blenders\,  distillers\,  ambassadors and industry af
 icionados. Dozens of rum stands &amp; booths showcasing over 400 rums &amp;
  live Caribbean music &amp; dancing during our end of[..]\nhttps://socanews
 .com/events/the-rumfest/
URL:https://socanews.com/events/the-rumfest/
END:VEVENT
END:VCALENDAR