
BEGIN:VCALENDAR
VERSION:2.0
PRODID:-//eventon.com NONSGML v1.0//EN
CALSCALE:GREGORIAN
METHOD:PUBLISH
BEGIN:VEVENT
UID:69ed8b1241a1c
DTSTAMP:20260426T034834Z
DTSTART:20221008T170000Z
DTEND:20221008T190000Z
LOCATION:Shaw Theatre 100-110 Euston Road\,  Kings Cross\,  London\,  NW1 2AJ
SUMMARY:Carnival Celebration 2022
DESCRIPTION:An event that explains the origins and history of Carnival. Thi
 s roots the performance in its history and explains to a wide audience how 
 it has evolved and how it sits at the center of London’s identity as a ci
 ty of so many cultures and backgrounds by showcasing exemplars of[..]\nhttp
 s://socanews.com/events/carnival-celebration-2022/
URL:https://socanews.com/events/carnival-celebration-2022/
END:VEVENT
END:VCALENDAR