
BEGIN:VCALENDAR
VERSION:2.0
PRODID:-//eventon.com NONSGML v1.0//EN
CALSCALE:GREGORIAN
METHOD:PUBLISH
BEGIN:VEVENT
UID:69ea5a86b1301
DTSTAMP:20260423T174438Z
DTSTART:20221022T140000Z
DTEND:20221022T220000Z
LOCATION:Argyle Waterfall Tobago
SUMMARY:The Hideout Jouvert
DESCRIPTION:Start the Carnival in the EAST HIDEOUT!\nhttps://socanews.com/e
 vents/the-hideout-jouvert/
URL:https://socanews.com/events/the-hideout-jouvert/
END:VEVENT
END:VCALENDAR