
BEGIN:VCALENDAR
VERSION:2.0
PRODID:-//eventon.com NONSGML v1.0//EN
CALSCALE:GREGORIAN
METHOD:PUBLISH
BEGIN:VEVENT
UID:69ea5a86b0f99
DTSTAMP:20260423T174438Z
DTSTART:20221022T150000Z
DTEND:20221022T100000Z
LOCATION:Buccoo Homes Phase 2  Lp 58 Shirvan Road\,  Buccoo\,  Tobago (Next to Buccoo Town Centre)
SUMMARY:Tobago Soca Chutney Explosion
DESCRIPTION:Tobago Soca Chutney Explosion\nhttps://socanews.com/events/toba
 go-soca-chutney-explosion/
URL:https://socanews.com/events/tobago-soca-chutney-explosion/
END:VEVENT
END:VCALENDAR