
BEGIN:VCALENDAR
VERSION:2.0
PRODID:-//eventon.com NONSGML v1.0//EN
CALSCALE:GREGORIAN
METHOD:PUBLISH
BEGIN:VEVENT
UID:69ea5a86ded64
DTSTAMP:20260423T174438Z
DTSTART:20221029T030000Z
DTEND:20221029T080000Z
LOCATION:Crown Point Tobago
SUMMARY:Jouvert
DESCRIPTION:Jouvert\nhttps://socanews.com/events/jouvert-5/
URL:https://socanews.com/events/jouvert-5/
END:VEVENT
END:VCALENDAR