
BEGIN:VCALENDAR
VERSION:2.0
PRODID:-//eventon.com NONSGML v1.0//EN
CALSCALE:GREGORIAN
METHOD:PUBLISH
BEGIN:VEVENT
UID:69ed87bacac5f
DTSTAMP:20260426T033418Z
DTSTART:20221221T200000Z
DTEND:20221221T235000Z
LOCATION:Carnival Village (Sugar Mill) Basseterre\,  St. Kitts
SUMMARY:Sugar Mas 2022 - Soca Monarch Finals
DESCRIPTION:Festival of Lights: Magical Movie Night\nhttps://socanews.com/e
 vents/sugar-mas-2022-soca-monarch-finals/
URL:https://socanews.com/events/sugar-mas-2022-soca-monarch-finals/
END:VEVENT
END:VCALENDAR